BEGIN:VCALENDAR
VERSION:2.0
PRODID:-//izarkom - ECPv6.15.20//NONSGML v1.0//EN
CALSCALE:GREGORIAN
METHOD:PUBLISH
X-WR-CALNAME:izarkom
X-ORIGINAL-URL:https://www.izarkom.eus/es/
X-WR-CALDESC:Eventos para izarkom
REFRESH-INTERVAL;VALUE=DURATION:PT1H
X-Robots-Tag:noindex
X-PUBLISHED-TTL:PT1H
BEGIN:VTIMEZONE
TZID:Europe/Madrid
BEGIN:DAYLIGHT
TZOFFSETFROM:+0100
TZOFFSETTO:+0200
TZNAME:CEST
DTSTART:20250330T010000
END:DAYLIGHT
BEGIN:STANDARD
TZOFFSETFROM:+0200
TZOFFSETTO:+0100
TZNAME:CET
DTSTART:20251026T010000
END:STANDARD
BEGIN:DAYLIGHT
TZOFFSETFROM:+0100
TZOFFSETTO:+0200
TZNAME:CEST
DTSTART:20260329T010000
END:DAYLIGHT
BEGIN:STANDARD
TZOFFSETFROM:+0200
TZOFFSETTO:+0100
TZNAME:CET
DTSTART:20261025T010000
END:STANDARD
BEGIN:DAYLIGHT
TZOFFSETFROM:+0100
TZOFFSETTO:+0200
TZNAME:CEST
DTSTART:20270328T010000
END:DAYLIGHT
BEGIN:STANDARD
TZOFFSETFROM:+0200
TZOFFSETTO:+0100
TZNAME:CET
DTSTART:20271031T010000
END:STANDARD
END:VTIMEZONE
BEGIN:VEVENT
DTSTART;TZID=Europe/Madrid:20260128T190000
DTEND;TZID=Europe/Madrid:20260128T193000
DTSTAMP:20260421T154903
CREATED:20251001T111636Z
LAST-MODIFIED:20260122T092221Z
UID:25037-1769626800-1769628600@www.izarkom.eus
SUMMARY:Soberanía de telecomunicaciones\, ¿qué es eso?
DESCRIPTION:Muchas veces a la hora de hablar de telecomunicaciones o de tecnología se crea una distancia enorme\, parece que hablamos como marcianos. A diferencia de la alimentación o la sanidad\, nos es difícil saber qué hay detrás de esas palabras gordas y\, por supuesto\, qué influencia tiene eso en nuestras vidas. Lo que es la soberanía parece un poco más fácil\, pero no en qué se materializa en la práctica. Con Beñat trataremos de conocer el trabajo de EHKOM y poinerlo sobre la mesa. \n			\n				\n				\n				\n				\n				Ponente(s): Beñat Azkargorta Mintegi:Tras cursar el grado y doble máster en Ingeniería de Telecomunicación (Bilbao\, UPV/EHU y Chicago\, IIT) trabaja como ingeniero y activista en la integración del enfoque social en el ámbito de las telecomunicaciones. \nEn los últimos años junto con Izarkom\, Hiriko At y Udalbiltza ha creado y trabajado en la cooperativa EH KOM. El objetivo principal de EH KOM es hacer frente a la brecha digital que sufren los diferentes grupos humanos y construir las infraestructuras de telecomunicaciones necesarias para lograr la soberanía como pueblo. En lugar de las infraestructuras digitales en manos de gigantes multinacionales\, proponen redes e infraestructuras libres y público-comunitarias bajo el control de entidades locales\, ciudadanos y agentes comunitarios locales. \n			\n				Apúntate\n			\n				\n				\n				\n				\n				Te agradeceríamos que te apuntaras con el objetivo de facilitar la logística especial de la escuela. Es gratuita y opcional. \nDe esta forma\, los días previos a la sesión te enviaríamos un recordatorio vía email. Dado que las sesiones tienen un aforo limitado\, si se superara el aforo se dará prioridad a las inscritas. \n* Todas las sesiones serán en euskera. \n			\n				Volver a la página de Eskola
URL:https://www.izarkom.eus/es/ekitaldiak/soberania-de-telecomunicaciones-que-es-eso/
LOCATION:Izarkom Bilbo\, Goienkale 14\, Bilbo\, Bizkaia\, 48005
CATEGORIES:Izarkom Eskola
ATTACH;FMTTYPE=image/gif:https://www.izarkom.eus/wp-content/uploads/2025/10/ESKOLA-BIDEOA-BENAT-AZKARGORTA.gif
ORGANIZER;CN="Izarkom":MAILTO:arreta@izarkom.eus
END:VEVENT
END:VCALENDAR