BEGIN:VCALENDAR
VERSION:2.0
PRODID:-//izarkom - ECPv6.15.20//NONSGML v1.0//EN
CALSCALE:GREGORIAN
METHOD:PUBLISH
X-WR-CALNAME:izarkom
X-ORIGINAL-URL:https://www.izarkom.eus
X-WR-CALDESC:Events for izarkom
REFRESH-INTERVAL;VALUE=DURATION:PT1H
X-Robots-Tag:noindex
X-PUBLISHED-TTL:PT1H
BEGIN:VTIMEZONE
TZID:Europe/Madrid
BEGIN:DAYLIGHT
TZOFFSETFROM:+0100
TZOFFSETTO:+0200
TZNAME:CEST
DTSTART:20240331T010000
END:DAYLIGHT
BEGIN:STANDARD
TZOFFSETFROM:+0200
TZOFFSETTO:+0100
TZNAME:CET
DTSTART:20241027T010000
END:STANDARD
BEGIN:DAYLIGHT
TZOFFSETFROM:+0100
TZOFFSETTO:+0200
TZNAME:CEST
DTSTART:20250330T010000
END:DAYLIGHT
BEGIN:STANDARD
TZOFFSETFROM:+0200
TZOFFSETTO:+0100
TZNAME:CET
DTSTART:20251026T010000
END:STANDARD
BEGIN:DAYLIGHT
TZOFFSETFROM:+0100
TZOFFSETTO:+0200
TZNAME:CEST
DTSTART:20260329T010000
END:DAYLIGHT
BEGIN:STANDARD
TZOFFSETFROM:+0200
TZOFFSETTO:+0100
TZNAME:CET
DTSTART:20261025T010000
END:STANDARD
END:VTIMEZONE
BEGIN:VEVENT
DTSTART;TZID=Europe/Madrid:20251029T190000
DTEND;TZID=Europe/Madrid:20251029T193000
DTSTAMP:20260421T192719
CREATED:20250902T082024Z
LAST-MODIFIED:20250915T093956Z
UID:24184-1761764400-1761766200@www.izarkom.eus
SUMMARY:Fake news aroa?!
DESCRIPTION:Informazioaren aroan\, infoxikatuta gaudela diote adituek. Egunero irakurtzen ditugu zalantza edo susmoa eragiten diguten berriak\, interneten\, sare sozialetan zein hedabideetan; baina\, ba al dakigu benetako eta gezurretako albisteak bereizten? Kaos eta errebote aro honetan\, boteretsu berriek gizartea kontrolatzeko baliabideak eta gerra kulturala nola egiten duten aztertuko dugu. \n			\n				\n				\n				\n				\n				Hizlaria(k): Julen Orbegozo Terradillos: Publizitate eta Harreman Publikoetan eta Kazetaritzan lizentziatua\, Euskal Herriko Unibertsitateko irakaslea da\, Gizarte eta Komunikazio Zientzietako Fakultatean. Komunikazio Publikoaren Zuzendaritza\, Komunikazioaren Egungo Joerak eta Pertsonen Arteko eta Taldeko Komunikazioa irakasgaietan jardun da azken urteotan. Gureiker taldeko ikerlaria ere bada eta bere ikerketa lerro nagusiak hurrengoak dira: aktibismo digitala\, komunikazio politikoa eta desinformazioa. Komunikabide ugaritan kolaborazioak egin ditu\, hala nola\, EiTBren kate ezberdinetan (Euskadi Irratia\, Radio Euskadi\, ETB1 eta ETB2)\, Naiz.eus-en\, Berrian\, The Conversation-en\, Onda Cero-n eta abar. \nUnibertsitatean hasi aurretik 10 urte egin zituen arlo profesionalean\, komunikazio politikoan aholkulari moduan. Eusko Legebiltzarrean alderdi politiko baten aholkularitza kabinetean lan egiteaz gain\, hainbat hauteskunde parte hartu du ikerlari edo aholkulari gisa. \n			\n				Eman Izena\n			\n				\n				\n				\n				\n				Eskolaren logistika berezia errazteko helburuarekin izena ematea eskertuko genizuke. Modu berean\, saioaren aurreko egunetan email bidez gogorarazpena bidaliko genizuke. Doakoa eta hautazkoa da. \nSaioek edukiera mugatua dutenez\, aforoa gaindituko balitz izena eman dutenei emango zaie lehentasuna. \n			\n				Eskolako orrira itzuli
URL:https://www.izarkom.eus/ekitaldiak/fake-news-aroa/
LOCATION:Izarkom Bilbo\, Goienkale 14\, Bilbo\, Bizkaia\, 48005
CATEGORIES:Izarkom Eskola
ATTACH;FMTTYPE=image/gif:https://www.izarkom.eus/wp-content/uploads/2025/09/ESKOLA-BIDEOA-JULEN-ORBEGOZO.gif
ORGANIZER;CN="Izarkom":MAILTO:arreta@izarkom.eus
END:VEVENT
END:VCALENDAR