BEGIN:VCALENDAR
VERSION:2.0
PRODID:-//izarkom - ECPv6.15.20//NONSGML v1.0//EN
CALSCALE:GREGORIAN
METHOD:PUBLISH
X-WR-CALNAME:izarkom
X-ORIGINAL-URL:https://www.izarkom.eus
X-WR-CALDESC:Events for izarkom
REFRESH-INTERVAL;VALUE=DURATION:PT1H
X-Robots-Tag:noindex
X-PUBLISHED-TTL:PT1H
BEGIN:VTIMEZONE
TZID:Europe/Madrid
BEGIN:DAYLIGHT
TZOFFSETFROM:+0100
TZOFFSETTO:+0200
TZNAME:CEST
DTSTART:20250330T010000
END:DAYLIGHT
BEGIN:STANDARD
TZOFFSETFROM:+0200
TZOFFSETTO:+0100
TZNAME:CET
DTSTART:20251026T010000
END:STANDARD
BEGIN:DAYLIGHT
TZOFFSETFROM:+0100
TZOFFSETTO:+0200
TZNAME:CEST
DTSTART:20260329T010000
END:DAYLIGHT
BEGIN:STANDARD
TZOFFSETFROM:+0200
TZOFFSETTO:+0100
TZNAME:CET
DTSTART:20261025T010000
END:STANDARD
BEGIN:DAYLIGHT
TZOFFSETFROM:+0100
TZOFFSETTO:+0200
TZNAME:CEST
DTSTART:20270328T010000
END:DAYLIGHT
BEGIN:STANDARD
TZOFFSETFROM:+0200
TZOFFSETTO:+0100
TZNAME:CET
DTSTART:20271031T010000
END:STANDARD
BEGIN:DAYLIGHT
TZOFFSETFROM:+0100
TZOFFSETTO:+0200
TZNAME:CEST
DTSTART:20280326T010000
END:DAYLIGHT
BEGIN:STANDARD
TZOFFSETFROM:+0200
TZOFFSETTO:+0100
TZNAME:CET
DTSTART:20281029T010000
END:STANDARD
END:VTIMEZONE
BEGIN:VEVENT
DTSTART;TZID=Europe/Madrid:20260117T103000
DTEND;TZID=Europe/Madrid:20260117T200000
DTSTAMP:20260420T153922
CREATED:20260115T104525Z
LAST-MODIFIED:20260115T160443Z
UID:26849-1768645800-1768680000@www.izarkom.eus
SUMMARY:Gipuzkoako Trinkete Txapelketa - Eskuz Binakako Finalak - Izarkom Saria
DESCRIPTION:Urtarrilak 17 (larunbata)\, Irura\, Ametsa Trinketea\n10:30etan \n1 – KADETEAKBehar Zana 3 (Iparragirre-Iraola) Vs Behar Zana 1 (Elosegi-Zufiria) \n2 – JUBENILAKBehar Zana 1 (Cestau-Oñate) Vs Behar Zana 2 (Iparragirre-Zufiria) \n16:30etan \n1 – 2. mailako NAGUSIAKEPLE1 (Sorondo-Aranburu) Vs Kuku (Labaka-Errazkin) \n2 – 1. mailako NAGUSIAKEPLE1 (Taberna-Chiapuso) Vs EPLE2 (Aranburu-Santamaria) \nAntolatzailea Gipuzkoako Euskal Pilota Federazioa
URL:https://www.izarkom.eus/ekitaldiak/trinketeko-finalak-izarkom-saria/
LOCATION:Irura\, Ametsa Trinketea\, Zillar Kalea\, 3\, Irura\, Gipuzkoa\, 20270
CATEGORIES:Trinkete Izarkom Saria
ATTACH;FMTTYPE=image/jpeg:https://www.izarkom.eus/wp-content/uploads/2026/01/eskus-binaka-trinkete-izarkom-saria.jpg
END:VEVENT
BEGIN:VEVENT
DTSTART;TZID=Europe/Madrid:20260122T190000
DTEND;TZID=Europe/Madrid:20260122T190000
DTSTAMP:20260420T153922
CREATED:20260114T123225Z
LAST-MODIFIED:20260114T123230Z
UID:26803-1769108400-1769108400@www.izarkom.eus
SUMMARY:Iruñeko bulegoaren inaugurazioa
DESCRIPTION:Iazko apirileko itzalaldiaren ondotik\, urte erdia igaro da jada Goiener eta Izarkom kooperatibek energia eta telekomunikazio esparruko lankidetza estrategikoari ekin geniola. Babes zabala jaso zuen Itzali sistema\, piztu alternatibak manifestua izan zen lehen urratsa; orain\, bigarrena ematera goaz\, Iruñean elkarbanatuko dugun bulego berria irekita: \nUrtarrilaren 22an (osteguna) arratsaldeko 19:00etan Inaugurazio ekitaldi bateratua\, jan-edana eta kultur eskaintza izango da\, Mintxo Astitz eta Ainara Yeregi bertsolariak eta DJ Moreiraren eskutik \n			\n				\n				\n				\n				\n				 Hori dela eta\, zu inaugurazio ekitaldi berezi horretan egotea gustatuko litzaiguke.  Zenbat lagun elkartuko garen jakiteko\, eskertuko genizuke bertaratuko zaren konfirmatzea galdetegi hau beteta: \n			\n				Eman Izena
URL:https://www.izarkom.eus/ekitaldiak/iruneko-bulegoaren-inaugurazioa/
LOCATION:Goiener – Izarkom Iruñea\, Kale berria 10\, Iruñea\, Euskal Herria\, 31001
CATEGORIES:Bestelakoak,Goiener Izarkom lankidetza
ATTACH;FMTTYPE=image/jpeg:https://www.izarkom.eus/wp-content/uploads/2026/01/goiener-izarkom-irunea.jpg
ORGANIZER;CN="Izarkom":MAILTO:arreta@izarkom.eus
END:VEVENT
BEGIN:VEVENT
DTSTART;TZID=Europe/Madrid:20260128T190000
DTEND;TZID=Europe/Madrid:20260128T193000
DTSTAMP:20260420T153922
CREATED:20251001T101238Z
LAST-MODIFIED:20260114T120439Z
UID:25015-1769626800-1769628600@www.izarkom.eus
SUMMARY:Telekomunikazio buruja… zer?
DESCRIPTION:Askotan telekomunikazioa edo teknologiari buruz hitz egiterakoan sekulako distantzia sortzen da\, martzianoak bezala hitz egiten dugula dirudi. Elikadura edo osasungintzan ez bezala\, zaila zaigu jakitea zer dagoen hitz potolo horien atzean\, eta noski\, zein eragin duen horrek gure bizitzetan. Burujabetza zer den aldiz\, pixkat errezagoa dirudi\, baina praktikan zertan gauzatzen den\, ez ordea. Beñatekin EHKOMen lana ezagutu eta kalera ekartzen saiatuko gara: \n			\n				\n				\n				\n				\n				Hizlaria(k): Beñat Azkargorta Mintegi:Telekomunikazio ingeniaritzan gradua eta master bikoitza burutu ondotik (Bilbo\,EHU eta Chicago\,IIT) ingeniari eta aktibista gisa lanean dihardu\, telekomunikazioen arloari gizarte-ikuspuntua txertatzeko ahaleginean. \nAzken urteetan Izarkom\, Hiritik At eta Udalbiltzarekin batera EH KOM kooperatiba sortu eta horretan lanean aritu da. EH KOM-en helburu nagusia giza-talde ezberdinek pairatzen duten arrakala digitalari aurre egin eta herri gisa burujabetza lortzeko bidean beharrezko ditugun telekomunikazio-azpiegiturak eraikitzea da. Erraldoi multinazionalen esku dauden azpiegitura digitalen ordez\, sare eta azpiegitura libre eta publiko-komunitarioak proposatzen dituzte\, tokiko erakundeen\, herritarren eta eragile komunitario lokalen kontrolpean daudenak. \n			\n				Eman Izena\n			\n				\n				\n				\n				\n				Eskolaren logistika berezia errazteko helburuarekin izena ematea eskertuko genizuke. Modu berean\, saioaren aurreko egunetan email bidez gogorarazpena bidaliko genizuke. Doakoa eta hautazkoa da. \nSaioek edukiera mugatua dutenez\, aforoa gaindituko balitz izena eman dutenei emango zaie lehentasuna. \n			\n				Eskolako orrira itzuli
URL:https://www.izarkom.eus/ekitaldiak/telekomunikazio-burujabetza-zer/
LOCATION:Izarkom Bilbo\, Goienkale 14\, Bilbo\, Bizkaia\, 48005
CATEGORIES:Izarkom Eskola
ATTACH;FMTTYPE=image/gif:https://www.izarkom.eus/wp-content/uploads/2025/10/ESKOLA-BIDEOA-BENAT-AZKARGORTA.gif
ORGANIZER;CN="Izarkom":MAILTO:arreta@izarkom.eus
END:VEVENT
BEGIN:VEVENT
DTSTART;TZID=Europe/Madrid:20260225T190000
DTEND;TZID=Europe/Madrid:20260225T193000
DTSTAMP:20260420T153922
CREATED:20260122T083249Z
LAST-MODIFIED:20260130T090234Z
UID:26985-1772046000-1772047800@www.izarkom.eus
SUMMARY:Nola babestu gure bizitza digitala?
DESCRIPTION:Ver en castellano\n			\n				\n				\n				\n				\n				Mundu hibrido “figital” honetan\, gure nortasuna bi bide eta abiadura ezberdinetan eraikitzen goaz. Sarritan\, bizitza fisikoan egiten ez ditugun gauzak bizitza digitalean egitera ausartzen gara\, inor begira egongo ez balitz bezala. Baina konturatu orduko\, sare sozialek eragin bidarkatzaile izugarria izaten dute eta geldiezina askotan\, utzitako aztarna ezabatzeko zailtasun nabarmenekin. \nDatuen ekonomia honek ondorio latzak dakartza norbanako eta gizarteentzat. Izan ere\, gure nabigatze jarduerek multinazionalen etekinak pilatzen jarraitzen dituzten bitartean\, gure pribatutasuna eta segurtasuna arriskuan jarri dezakete. Lege urratzeak eta arazo psikosozialak ugaritzen doazen einean gure bizitza babesteko neurriak hartzea ezinbestekoa da. Horretan lagunduko gaitu Unai Aberasturik hurrengo saioan. \n			\n				\n				\n				\n				\n				Hizlaria(k): Unai Aberasturi Gorriño:Legelaria\, administratiboa eta unibertsitateko irakaslea da. Gaur egun\, Datuak Babesteko Euskal Agintaritzako (DBEA) presidentea. \nZuzenbidean lizentziatua eta doktorea. UOC zein EHUko irakasle eta ikerlaria. Osasuna\, giza eskubideak\, ingurumena\, espazio publikoa\, administrazio elektronikoa edo pribatutasunaren esparruak aztertu ditu besteak beste. \n			\n				Eman Izena\n			\n				\n				\n				\n				\n				Eskolaren logistika berezia errazteko helburuarekin izena ematea eskertuko genizuke. Modu berean\, saioaren aurreko egunetan email bidez gogorarazpena bidaliko genizuke. Doakoa eta hautazkoa da. \nSaioek edukiera mugatua dutenez\, aforoa gaindituko balitz izena eman dutenei emango zaie lehentasuna. \n			\n				Eskolako orrira itzuli
URL:https://www.izarkom.eus/ekitaldiak/nola-babestu-gure-bizitza-digitala/
LOCATION:Izarkom Bilbo\, Goienkale 14\, Bilbo\, Bizkaia\, 48005
CATEGORIES:Izarkom Eskola
ATTACH;FMTTYPE=image/gif:https://www.izarkom.eus/wp-content/uploads/2026/01/ESKOLA-BIDEOA-UNAI-ABERASTURI.gif
ORGANIZER;CN="Izarkom":MAILTO:arreta@izarkom.eus
END:VEVENT
BEGIN:VEVENT
DTSTART;TZID=Europe/Madrid:20260227T173000
DTEND;TZID=Europe/Madrid:20260227T190000
DTSTAMP:20260420T153922
CREATED:20260226T081859Z
LAST-MODIFIED:20260226T082039Z
UID:27420-1772213400-1772218800@www.izarkom.eus
SUMMARY:Hitzaldia Ziortza-Bolibarren
DESCRIPTION:Ziortza-Bolibarren zuntz bidezko internet zerbitzua jartzeko azpiegitura berritzen aritu gara azken asteetan\, bertako udalaren eskariz\, Elizalde osoa zuntzarekin lotzeko helburuarekin. \n			\n				\n				\n				\n				\n				Egindako lanak azalduko dizkiegu bertara gerturatzen diren herritarrei\, aurkezpen ibiltari baten bidez\, obrak nolakoak izan diren eta zerbitzuak eskaintzen dituen abantailak azaltzeko. Ostean\, Osoko Aretoan\, Izarkomek eskaintzen duen zerbitzu berri honek ze abantaila dituen azaltzeko hitzaldia eskainiko dugu. Bileran parte hartzeko aukera egongo da\, eta herritarrek dituzten galderak eta zalantzak asetzeko espazioa izango da.
URL:https://www.izarkom.eus/ekitaldiak/hitzaldia-ziortza-bolibarren/
LOCATION:Ziortza Bolibargo Udaletxea\, Simon Bolibar plaza\, Ziortza Bolibar\, 48278
CATEGORIES:Bestelakoak,TelekomunikazioBurujabetza
ATTACH;FMTTYPE=image/png:https://www.izarkom.eus/wp-content/uploads/2026/02/ZIORTZA-BOLIBAR-Mastodon.png
END:VEVENT
BEGIN:VEVENT
DTSTART;TZID=Europe/Madrid:20260311T190000
DTEND;TZID=Europe/Madrid:20260311T193000
DTSTAMP:20260420T153922
CREATED:20260122T085339Z
LAST-MODIFIED:20260130T094319Z
UID:26996-1773255600-1773257400@www.izarkom.eus
SUMMARY:Software askea herri libre batean
DESCRIPTION:Ver en castellano\n			\n				\n				\n				\n				\n				Agian noizbait software pribatua eta software librea terminoak entzun ditugu. Baina\, zer da software librea? Nork erabiltzen du? Zergatik interesatu beharko litzaiguke? Software librea\, FSF (Free Sofware Fundation) en arabera\, ondorengo lau eskubideak bete behar ditu: 1. Helburua edozein dela ere\, programa exekutatu ahal izatea; 2. Programa aztertu eta aldatu ahal izatea; 3. Programaren kopiak zabaldu ahal izatea; 4. Programa hobetu\, eta hobekuntzak horiek publiko egin ahal izatea\, komunitatearen onurarako. \nLau eskubide hauek betetzen dituen programa oro librea da. Eta teknologiak gure bizitzako esparru gehienetan eragiten duen aro honetan: administrazioan\, irakaskuntzan\, industrian\, zerbitzuetan…Teknologia horrek nolakoa izan behar luken hausnartzeko garaia da. Izarkom eskolaren zazpigarren saio honetan\, Iker Garaialdek Software Librea ulertzeko eta erabiltzeko gakoak emango dizkigu. \n			\n				\n				\n				\n				\n				Hizlaria(k):  Iker Garaialde Etxaburu:Elektronika eta sistema automatizatuen teknikari espezialista; 5 urtez instalakuntza kooperatiba batetako arduradun teknikoa izan eta gero\, Izarkomen sortze prozesuko koordinatzailea eta egun Izarkomeko zuzendaria da. \n			\n				Eman Izena\n			\n				\n				\n				\n				\n				Eskolaren logistika berezia errazteko helburuarekin izena ematea eskertuko genizuke. Modu berean\, saioaren aurreko egunetan email bidez gogorarazpena bidaliko genizuke. Doakoa eta hautazkoa da. \nSaioek edukiera mugatua dutenez\, aforoa gaindituko balitz izena eman dutenei emango zaie lehentasuna. \n			\n				Eskolako orrira itzuli
URL:https://www.izarkom.eus/ekitaldiak/software-askea-herri-libre-batean-2/
LOCATION:Izarkom Bilbo\, Goienkale 14\, Bilbo\, Bizkaia\, 48005
CATEGORIES:Izarkom Eskola
ATTACH;FMTTYPE=image/gif:https://www.izarkom.eus/wp-content/uploads/2026/01/ESKOLA-BIDEOA-IKER-GARAIALDE.gif
ORGANIZER;CN="Izarkom":MAILTO:arreta@izarkom.eus
END:VEVENT
BEGIN:VEVENT
DTSTART;VALUE=DATE:20260317
DTEND;VALUE=DATE:20260318
DTSTAMP:20260420T153922
CREATED:20260312T112506Z
LAST-MODIFIED:20260316T094259Z
UID:27504-1773705600-1773791999@www.izarkom.eus
SUMMARY:M17 Greba Orokorra
DESCRIPTION:Izarkomek bat egin du ELAk\, LABek\, Steilasek\, Hiruk eta Etxaldek gaurko deitu duten greba orokorrarekin. \nGutxieneko soldata hemen erabaki\nLGS 1.500€\nSoldatak hobetu\, aberastasuna banatzeko
URL:https://www.izarkom.eus/ekitaldiak/m17-greba-orokorra/
CATEGORIES:Izarkom lan egutegia
ATTACH;FMTTYPE=image/png:https://www.izarkom.eus/wp-content/uploads/2026/03/M17-Greba-Mastodon-1.png
END:VEVENT
BEGIN:VEVENT
DTSTART;VALUE=DATE:20260318
DTEND;VALUE=DATE:20260319
DTSTAMP:20260420T153922
CREATED:20250317T161848Z
LAST-MODIFIED:20260303T114029Z
UID:21565-1773792000-1773878399@www.izarkom.eus
SUMMARY:Parisko Komunaren urteurrena
DESCRIPTION:Herri gobernantzak ospatu eta aldarrikatzeko egunean urgentziazko arreta eskariak artatuko ditugu soilik. \nIzarkomen lan egutegi propio bat garatzearen aldeko apustua egiten dugu\, gure baloreekin bat datorrena. Honenbestez ez dugu jaiegun arrotzik zein erlijioekin edo zapalkuntzekin zerikusia dutenik ospatzen. Aldiz\, Euskal Herri ekologista\, feminista\, antiarrazista\, euskaldun eta herritar baten aldeko egunak ospatu edo nabarmendu nahi ditugu. \n1871ko martxoaren 18an\, Parisko komuna abiatu zuten. Parisko langile klaseak Guardia Nazionaleko matxinatuekin batera\, bi hilabetez gizartea herritarren interesen menpe jarri zuten. Langile kontseiluetan antolatu ziren eta ordura arte pentsaezinak ziren lege asko onartu zituzten. Lehen esperientzia sozialistatzat hartzen da. \nHorregatik martxoak 18an Parisko komunaren urteurrena ospatuko dugu eta urgentziazko arreta eskariak artatuko ditugu soilik. \nUrgentzia duen arazo bat baduzu\, beti bezala\, 693 922 997 zenbakira SMS bat bidali eta gu jarriko gara zurekin harremanetan. \nGainontzeko arreta bide guztiak itxita egongo dira.
URL:https://www.izarkom.eus/ekitaldiak/parisko-komunaren-urteurrena/
CATEGORIES:Izarkom lan egutegia
ATTACH;FMTTYPE=image/png:https://www.izarkom.eus/wp-content/uploads/2025/03/Parisko-Komuna.png
END:VEVENT
BEGIN:VEVENT
DTSTART;VALUE=DATE:20260319
DTEND;VALUE=DATE:20260320
DTSTAMP:20260420T153922
CREATED:20260312T113337Z
LAST-MODIFIED:20260312T114155Z
UID:27525-1773878400-1773964799@www.izarkom.eus
SUMMARY:24. KORRIKAren hasiera
DESCRIPTION:Gaur hasiko da 2 urtez zain izan gaituen 24. KORRIKA \nAtharratzen 15:30tan emango zaio hasiera eta bertako irudiak mundu guztira hedatuko dira Izarkomek Atharratzen muntatu duen telekomunikazio azpiegitura baliatuz. \n#Korrika
URL:https://www.izarkom.eus/ekitaldiak/korrika-hasiera/
LOCATION:Atharratze\, Erdiko Plaza\, Atharratze\, Zuberoa\, 64470
CATEGORIES:Izarkomek babestutakoak
ATTACH;FMTTYPE=image/png:https://www.izarkom.eus/wp-content/uploads/2026/03/KORRIKA-24-Mastodon01-1.png
END:VEVENT
BEGIN:VEVENT
DTSTART;TZID=Europe/Madrid:20260322T140000
DTEND;TZID=Europe/Madrid:20260322T150000
DTSTAMP:20260420T153922
CREATED:20260312T115448Z
LAST-MODIFIED:20260312T115905Z
UID:27535-1774188000-1774191600@www.izarkom.eus
SUMMARY:Izarkom eta Goienerren kilometroa
DESCRIPTION:Zatoz Izarkom eta Goienerrek elkarrekin hartu dugun 772 km KORRIKA egitera. \n13:30tan gerturatu zaitezke Kale Berrian dugun bulegora edota 14:15etan Barañain etorbideko 3 zenbakiaren parean\, San Zernin ikastetxearen aurrean. \nEuskara Gara!
URL:https://www.izarkom.eus/ekitaldiak/korrika-irunea/
LOCATION:772 km\, Av. de Barañáin\, 3\, Iruñea\, Nafarroa\, 31011
CATEGORIES:Izarkomek babestutakoak,Korrika
ATTACH;FMTTYPE=image/png:https://www.izarkom.eus/wp-content/uploads/2026/03/4-1.png
END:VEVENT
BEGIN:VEVENT
DTSTART;TZID=Europe/Madrid:20260324T043000
DTEND;TZID=Europe/Madrid:20260324T053000
DTSTAMP:20260420T153922
CREATED:20260313T085602Z
LAST-MODIFIED:20260323T142314Z
UID:27549-1774326600-1774330200@www.izarkom.eus
SUMMARY:Irungo kilometroa
DESCRIPTION:Zatoz gurekin 1313 km KORRIKA egitera. \nGurekin korrika egin nahi baduzu\, goiz esnatu beharko duzu. 04:30etan gerturatu beharko duzu Bidasoa Auzoko Punttako gasolindegira. \nEuskara Gara!
URL:https://www.izarkom.eus/ekitaldiak/korrika-irun/
LOCATION:1313\, Zona punttas\, N-121-A\, 74\, Irun\, Gipuzkoa\, 20305
CATEGORIES:Izarkomek babestutakoak,Korrika
ATTACH;FMTTYPE=image/png:https://www.izarkom.eus/wp-content/uploads/2026/03/KORRIKA-24-Mastodon-02.png
END:VEVENT
BEGIN:VEVENT
DTSTART;TZID=Europe/Madrid:20260329T092000
DTEND;TZID=Europe/Madrid:20260329T102000
DTSTAMP:20260420T153922
CREATED:20260313T095544Z
LAST-MODIFIED:20260313T100737Z
UID:27559-1774776000-1774779600@www.izarkom.eus
SUMMARY:Bilboko kilometroa
DESCRIPTION:Zatoz Izarkomekin 3387. km KORRIKA egitera. \nGurekin korrika egin nahi baduzu 09:20etan gerturatu zaitezke Goienkale kaleko bulegora edota 09:50etako Barrenkale Barrena 18ra\, Dorre kalearekin bat egiten duen txokora. \nEuskara Gara!
URL:https://www.izarkom.eus/ekitaldiak/korrika-bilbo-2/
LOCATION:3387\, Barrenkale Barrena 18\, Bilbo\, Bizkaia\, 48005
CATEGORIES:Izarkomek babestutakoak,Korrika
ATTACH;FMTTYPE=image/png:https://www.izarkom.eus/wp-content/uploads/2026/03/5-1.png
END:VEVENT
BEGIN:VEVENT
DTSTART;VALUE=DATE:20260402
DTEND;VALUE=DATE:20260407
DTSTAMP:20260420T153922
CREATED:20250403T074954Z
LAST-MODIFIED:20260420T093759Z
UID:22069-1775088000-1775519999@www.izarkom.eus
SUMMARY:Herrigintza egunak
DESCRIPTION:Izarkomen lan egutegi propio bat garatzearen aldeko apustua egiten dugu\, gure baloreekin bat datorrena. Honenbestez ez dugu jaiegun arrotzik zein erlijioekin edo zapalkuntzekin zerikusia dutenik ospatzen. Aldiz\, Euskal Herri ekologista\, feminista\, antiarrazista\, euskaldun eta herritar baten aldeko egunak ospatu edo nabarmendu nahi ditugu. \nJai egun hauek  Euskal Herria ezagutzeko egunak izendatu ditugu Izarkomen. Asteburu luze hau eskaintzen diogu geure buruari\, motxilan ikasteko gogoa sartu eta Eskiulatik Berangora eta Ablitasetik Gixunera ibiltzeko.
URL:https://www.izarkom.eus/ekitaldiak/herrigintza-egunak-250417/
CATEGORIES:Izarkom lan egutegia
ATTACH;FMTTYPE=image/png:https://www.izarkom.eus/wp-content/uploads/2025/04/Euskal-herria-ezagutzeko-egunak-1-1.png
END:VEVENT
BEGIN:VEVENT
DTSTART;TZID=Europe/Madrid:20260429T190000
DTEND;TZID=Europe/Madrid:20260429T193000
DTSTAMP:20260420T153922
CREATED:20260122T095619Z
LAST-MODIFIED:20260130T094802Z
UID:27024-1777489200-1777491000@www.izarkom.eus
SUMMARY:Sare sozial digitalak eta euskal fedibertsoa
DESCRIPTION:Ver en castellano\n			\n				\n				\n				\n				\n				Fedibertsoa\, instantzia edo webgune multzo bat da\, modu federatuan eta irekian edukiak partekatzeko. Fedibertsoa terminoa “federazio” eta “unibertso” hitzen baturatik dator. Bakoitzak modu independentean funtzionatzen du\, baina beste webgune batzuetan daudenekin interakzioa ahalbidetzen du eta edukiak partekatu daitezke. Elkar jarraitu\, mezuak bidali\, iruzkindu… \nGaur egun hegemoniko diren sare sozial zentralizatu\, komertzial eta pribatiboen aurrean alternatiba etiko eta praktiko bat bilakatu dira sare sozial libre eta deszentralizatuak Euskal Herrian ere. Izarkom eskolaren 8. saio honetan\, Ziharak euskara eta euskal fedibertsoaren arteko harremanaz hitz egingo digu. Bazatoz? \n			\n				\n				\n				\n				\n				Hizlaria(k): Zihara Enbeita Gardoki:Gernika-Lumo\, 1976. Kazetaritzan lizentziatua. Hainbat urtez kazetari moduan lan egin ondoren\, azken urteotan komunikazio arloan dabil; tarteka zenbait kolaborazio ere egin arren. UOCen Social Media Content izeneko graduondokoa eta ikus-entzunezko diseinuan eta informazioaren bisualizazioan espezializazioa egin ditu. Gaur egun UEUko komunikazio taldeko kidea da. \n			\n				Eman Izena\n			\n				\n				\n				\n				\n				Eskolaren logistika berezia errazteko helburuarekin izena ematea eskertuko genizuke. Modu berean\, saioaren aurreko egunetan email bidez gogorarazpena bidaliko genizuke. Doakoa eta hautazkoa da. \nSaioek edukiera mugatua dutenez\, aforoa gaindituko balitz izena eman dutenei emango zaie lehentasuna. \n			\n				Eskolako orrira itzuli
URL:https://www.izarkom.eus/ekitaldiak/sare-sozial-digitalak-eta-euskal-fedibertsoa/
LOCATION:Izarkom Bilbo\, Goienkale 14\, Bilbo\, Bizkaia\, 48005
CATEGORIES:Izarkom Eskola
ATTACH;FMTTYPE=image/gif:https://www.izarkom.eus/wp-content/uploads/2026/01/ESKOLA-BIDEOA-Zihara-Enbeita1.gif
ORGANIZER;CN="Izarkom":MAILTO:arreta@izarkom.eus
END:VEVENT
BEGIN:VEVENT
DTSTART;VALUE=DATE:20260501
DTEND;VALUE=DATE:20260502
DTSTAMP:20260420T153922
CREATED:20260410T112408Z
LAST-MODIFIED:20260415T111537Z
UID:22359-1777593600-1777679999@www.izarkom.eus
SUMMARY:Maiatzaren lehena
DESCRIPTION:Langileen Nazioarteko Eguna edo Maiatzaren Lehena langileen eta langile klaseen ospakizuna da\, nazioarteko langile mugimenduak sustatzen duena eta urtero maiatzaren 1ean ospatzen da.
URL:https://www.izarkom.eus/ekitaldiak/maiatzaren-lehena/
CATEGORIES:Izarkom lan egutegia
ATTACH;FMTTYPE=image/png:https://www.izarkom.eus/wp-content/uploads/2025/04/Maiatzak-1.png
END:VEVENT
BEGIN:VEVENT
DTSTART;TZID=Europe/Madrid:20260527T190000
DTEND;TZID=Europe/Madrid:20260527T193000
DTSTAMP:20260420T153922
CREATED:20260202T090225Z
LAST-MODIFIED:20260202T092851Z
UID:27136-1779908400-1779910200@www.izarkom.eus
SUMMARY:Faxismoaren gorakada eta borroka digitala
DESCRIPTION:Ver en castellano\n			\n				\n				\n				\n				\n				Ultraeskuina mugarik gabe zabaltzen ari den honetan\, eraso sexista\, arrazista\, xenofobo\,… ugari aurki ditzakegu sare sozial digitaletan. Euskal Herria ere ez da logika honen kanpo geratzen. Baina bada lubakiaren beste aldean dagoen borroka bat\, anitza\,  zabala\, koloretsua\, irudimez betea. Ezkerretik eta feminismotik egiten ari den lana hurbilagotik ezagutuko dugu bi emakume gazte aktibista hauen eskutik:  \n			\n				\n				\n				\n				\n				Hizlaria(k): Maider Galardi F. Agirre:Ikerlari eta kazetari feminista. Soziologia ikasi zuen EHUn eta Ikasketa Feministen Doktore Programan doktoretza egin ostean\, unibertsitatean ari da egun lanean. Horren aurretik\, Berria egunkarian jardun zen. Bi eremuetan batik bat euskal gatazka eta indarkeria matxista izan ditu langai. Hainbat hedabidetan ere kolaboratzen du gaurkotasun gaien analista moduan. \nHizlaria(k): Maialen Arteaga Gonzalez:Kazetaritza gradua eta Subiranotasuna Europako Herrietan masterra ikasita EHUn. Berrian kazetari lanetan aritua\, eta hedabideetan tertulietako kolaboratzaile bezala. Gazte antolakundean eta feminismoan hasi zuen ibilbide militantea. Egun\, Sortun Komunikazioaren ardurarekin. \n			\n				Eman Izena\n			\n				\n				\n				\n				\n				Eskolaren logistika berezia errazteko helburuarekin izena ematea eskertuko genizuke. Modu berean\, saioaren aurreko egunetan email bidez gogorarazpena bidaliko genizuke. Doakoa eta hautazkoa da. \nSaioek edukiera mugatua dutenez\, aforoa gaindituko balitz izena eman dutenei emango zaie lehentasuna. \n			\n				Eskolako orrira itzuli
URL:https://www.izarkom.eus/ekitaldiak/faxismoaren-gorakada-eta-borroka-digitala/
LOCATION:Izarkom Bilbo\, Goienkale 14\, Bilbo\, Bizkaia\, 48005
CATEGORIES:Izarkom Eskola
ATTACH;FMTTYPE=image/gif:https://www.izarkom.eus/wp-content/uploads/2026/02/ESKOLA-BIDEOA-Maider-Maialen.gif
ORGANIZER;CN="Izarkom":MAILTO:arreta@izarkom.eus
END:VEVENT
BEGIN:VEVENT
DTSTART;VALUE=DATE:20260624
DTEND;VALUE=DATE:20260625
DTSTAMP:20260420T153922
CREATED:20250515T111001Z
LAST-MODIFIED:20260420T094942Z
UID:22717-1782259200-1782345599@www.izarkom.eus
SUMMARY:Udako solstizioa
DESCRIPTION:Udako solstizioa ospatzeko eguna
URL:https://www.izarkom.eus/ekitaldiak/udako-solstizioa/
CATEGORIES:Izarkom lan egutegia
ATTACH;FMTTYPE=image/jpeg:https://www.izarkom.eus/wp-content/uploads/2025/05/GG230613105.jpg
END:VEVENT
BEGIN:VEVENT
DTSTART;TZID=Europe/Madrid:20260624T190000
DTEND;TZID=Europe/Madrid:20260624T193000
DTSTAMP:20260420T153922
CREATED:20260211T102638Z
LAST-MODIFIED:20260211T105917Z
UID:27233-1782327600-1782329400@www.izarkom.eus
SUMMARY:Kriptomoda eta diru digitala
DESCRIPTION:Ver en castellano\n			\n				\n				\n				\n				\n				Legezko diru digitala\, egia esan\, ezezagun handia da pertsona gehienentzat\, nahiz eta egunero konturatu gabe erabiltzen dugun: txartelarekin ordaintzen dugunean\, transferentzia bat egiten dugunean edo zordunketa automatiko bat jasotzen dugunean. Gure eguneroko bizitzaren parte da\, baina gutxitan pentsatzen dugu nola funtzionatzen duen edo nork kontrolatzen duen. Jende askok ez daki herritarrek ere parte har dezaketela eta ordainbide digitalak kudeatzeko gaitasuna izan dezaketela\, elektrizitatearen edo telekomunikazioen merkaturatzean gertatu den bezala. \n			\n				\n				\n				\n				\n				Gainera\, diru digitalari buruz hitz egiten denean\, pertsona askok automatikoki pentsatzen dute kriptotxanponetan. Baina kriptotxanponak aktibo digitalaren mota zehatz bat baino ez dira. Gaur egun\, kriptotxanponen % 99 inguru espekulazio handiko inguruneetan mugitzen dira\, kasino baten edo apustu-poltsa baten oso antzekoak\, non oso denbora laburrean etekin handiak lortu nahi baitira. Hala ere\, badago espekulazio-ikuspegirik ez duen eta helburu sozial eta funtzional desberdinak dituen ehuneko txiki bat — beste % 1 hori —. Gutxi ezagutzen den % 1 horri buruz ere hitz egingo dugu. \n			\n				\n				\n				\n				\n				Hizlaria(k): Alex Lopez Morgado:GoiEner eta Ekhilur Kooperatiben errektoretza kontseiluko sustatzailea eta kidea da. \nHizlaria(k): Unai Gaztelu Olazabal:Bilboko ingurumen ingenierua. Aita. Autogestioan eta komunaletan murgilduta. Lankidea Bread Kooperatiban finantza solidarioak garatzen eta MoDi bertako txanponen sareak sustatzen. Etxebizitza komunalak zelan biziarazten ikertzen. \n			\n				Eman Izena\n			\n				\n				\n				\n				\n				Eskolaren logistika berezia errazteko helburuarekin izena ematea eskertuko genizuke. Modu berean\, saioaren aurreko egunetan email bidez gogorarazpena bidaliko genizuke. Doakoa eta hautazkoa da. \nSaioek edukiera mugatua dutenez\, aforoa gaindituko balitz izena eman dutenei emango zaie lehentasuna. \n			\n				Eskolako orrira itzuli
URL:https://www.izarkom.eus/ekitaldiak/kriptomoda_eta_diru_digitala/
LOCATION:Izarkom Bilbo\, Goienkale 14\, Bilbo\, Bizkaia\, 48005
CATEGORIES:Izarkom Eskola
ATTACH;FMTTYPE=image/gif:https://www.izarkom.eus/wp-content/uploads/2026/02/ESKOLA-BIDEOA-KRIPTO.gif
ORGANIZER;CN="Izarkom":MAILTO:arreta@izarkom.eus
END:VEVENT
BEGIN:VEVENT
DTSTART;VALUE=DATE:20270101
DTEND;VALUE=DATE:20270102
DTSTAMP:20260420T153922
CREATED:20251225T090336Z
LAST-MODIFIED:20260420T094235Z
UID:26608-1798761600-1798847999@www.izarkom.eus
SUMMARY:Urteberria
DESCRIPTION:Urteberria dela eta\, jai dugu izarkomen.
URL:https://www.izarkom.eus/ekitaldiak/urteberri/
CATEGORIES:Izarkom lan egutegia
ATTACH;FMTTYPE=image/png:https://www.izarkom.eus/wp-content/uploads/2025/12/Eguberri-on-2025.png
END:VEVENT
END:VCALENDAR